BEGIN:VCALENDAR
VERSION:2.0
PRODID:-//Landesvereinigung Schleswig-Holstein - ECPv6.15.20//NONSGML v1.0//EN
CALSCALE:GREGORIAN
METHOD:PUBLISH
X-WR-CALNAME:Landesvereinigung Schleswig-Holstein
X-ORIGINAL-URL:https://schleswig-holstein.vvn-bda.de
X-WR-CALDESC:Veranstaltungen für Landesvereinigung Schleswig-Holstein
REFRESH-INTERVAL;VALUE=DURATION:PT1H
X-Robots-Tag:noindex
X-PUBLISHED-TTL:PT1H
BEGIN:VTIMEZONE
TZID:Europe/Paris
BEGIN:DAYLIGHT
TZOFFSETFROM:+0100
TZOFFSETTO:+0200
TZNAME:CEST
DTSTART:20200329T010000
END:DAYLIGHT
BEGIN:STANDARD
TZOFFSETFROM:+0200
TZOFFSETTO:+0100
TZNAME:CET
DTSTART:20201025T010000
END:STANDARD
BEGIN:DAYLIGHT
TZOFFSETFROM:+0100
TZOFFSETTO:+0200
TZNAME:CEST
DTSTART:20210328T010000
END:DAYLIGHT
BEGIN:STANDARD
TZOFFSETFROM:+0200
TZOFFSETTO:+0100
TZNAME:CET
DTSTART:20211031T010000
END:STANDARD
BEGIN:DAYLIGHT
TZOFFSETFROM:+0100
TZOFFSETTO:+0200
TZNAME:CEST
DTSTART:20220327T010000
END:DAYLIGHT
BEGIN:STANDARD
TZOFFSETFROM:+0200
TZOFFSETTO:+0100
TZNAME:CET
DTSTART:20221030T010000
END:STANDARD
END:VTIMEZONE
BEGIN:VEVENT
DTSTART;TZID=Europe/Paris:20210508T110000
DTEND;TZID=Europe/Paris:20210508T120000
DTSTAMP:20260424T004217
CREATED:20210503T113059Z
LAST-MODIFIED:20210503T113059Z
UID:1961-1620471600-1620475200@schleswig-holstein.vvn-bda.de
SUMMARY:Gedenkkundgebung - Tag der Befreiung – 8./ 9. Mai – Tag des Sieges
DESCRIPTION:Der 8. Mai muss als Tag der Befreiung vom Faschismus und Krieg in ganz Deutschland ein gesetzlicher Feiertag werden.\nDie IG Metall Jugend Lübeck- Wismar /IG Metall Lübeck-Wismar\, der DGB Schleswig-Holstein Südost\, die Ver.di Bezirk Lübeck- Ostholstein und die VVN-BdA Lübeck/ Krs.Hzgt. Lauenburg am Samstag\, den 8. Mai 2021 von 11.00 bis 12.00 Uhr am Mahnmal für die Opfer des Faschismus am Zeughaus/Parade i.d.Nähe des Lübecker Doms. \nVor 76 Jahren erlebte die Menschheit am 8. und 9. Mai 1945 die endgültige militärische Zerschlagung des deutschen Faschismus. Diese Daten markieren den Sieg über das menschenverachtende Regime des Hitler-Faschismus. In ganz Europa wurden die Verfolgten des Naziregimes\, Juden\, Sinti und Roma\, behinderte Menschen\, Zwangsarbeiterinnen und Zwangsarbeiter und viele andere Menschen befreit. \nDer 8. Mai muss Feiertag werden: \n\nDamit wir der Opfer des (Naziregimes) Faschismus in Deutschland gedenken.\nDamit wir eine Erinnerungskultur schaffen können\, die aufzeigt\, dass rassistische und antisemitische Gewalt nach dem Ende des Nazi – Regimes als Konsequenz und Kontinuität aufgrund ungenügender Entnazifizierung begriffen werden muss.\nDamit wir uns immer wieder vor Augen führen\, dass Antifaschismus die Grundlage unserer Gesellschaft sein muss und damit gemeinnützig ist.\nDamit wir nicht vergessen\, dass das faschistische Deutschland einen zweiten Weltkrieg entfesselte der Leid und Elend brachte!\nEs muss diesen Feiertag geben\, damit wir den verschiedenen Formen von Rassismus und Faschismus entgegentreten und kein Relativieren der Verbrechen des Nazi-Regimes dulden.\n\nFür eine solidarische und bunte Gesellschaft! Nie wieder Krieg – nie wieder Faschismus!
URL:https://schleswig-holstein.vvn-bda.de/event/gedenkkundgebung-tag-der-befreiung-8-9-mai-tag-des-sieges/
LOCATION:Zeughaus\, Parade\, Lübeck\, Parade 12\, Lübeck\, 23552\, Deutschland
END:VEVENT
BEGIN:VEVENT
DTSTART;TZID=Europe/Paris:20210508T110000
DTEND;TZID=Europe/Paris:20210508T120000
DTSTAMP:20260424T004217
CREATED:20210507T060331Z
LAST-MODIFIED:20210507T060331Z
UID:1970-1620471600-1620475200@schleswig-holstein.vvn-bda.de
SUMMARY:8. Mai 1945 - Tag der Befreiung von Faschismus und Krieg
DESCRIPTION:2021 wird der 8. Mai in Schleswig-Holstein erstmals als offizieller Gedenktag begangen. Diese überfällige Würdigung begrüßen wir. Wir sehen den 8. Mai 1945 als Datum der Befreiung von Faschismus und Krieg durch die bedingungslose Kapitulation der deutschen Wehrmacht.\nMit diesem Ende des 2. Weltkrieges in Europa endete die Schreckensherrschaft des nationalsozialistischen Deutschlands\, die Millionen Tote kostete: Kriegsopfer\, Opfer des Genozids\, Opfer der Konzentrationslager\, Opfer der Strafaktionen in den besetzten Staaten.\nDer Opfer zu gedenken und vor neuen Gefahren zu warnen\, ist uns ein Anliegen.\nDeshalb wollen wir uns am 8. Mai 2021 um 11 Uhr an der Grabstätte auf dem Friedhof Breiter Weg / Bus-Station Egenbüttelweg in kleiner Runde Gedanken machen\, wie der dortige Grabstein einzuordnen ist. Marianne Wilke wird die VVN-BdA vertreten\, Irmgard Jasker den Arbeitskreis der Stadt Wedel. Natürlich achten wir auf Abstand und tragen einen Mund-Nasen-Schutz.
URL:https://schleswig-holstein.vvn-bda.de/event/8-mai-1945-tag-der-befreiung-von-faschismus-und-krieg/
LOCATION:Friedhof Breiter Weg / Bus-Station Egenbüttelweg\, Wedel
END:VEVENT
BEGIN:VEVENT
DTSTART;TZID=Europe/Paris:20210508T140000
DTEND;TZID=Europe/Paris:20210508T150000
DTSTAMP:20260424T004217
CREATED:20210507T060018Z
LAST-MODIFIED:20210507T060018Z
UID:1966-1620482400-1620486000@schleswig-holstein.vvn-bda.de
SUMMARY:Blumen für Gudendorf
DESCRIPTION:Eröffnung des „DenkMal“ (Nähe Parkplatz) durch Schüler*innen der Gemeinschaftsschule Meldorf. \nEinladung als PDF
URL:https://schleswig-holstein.vvn-bda.de/event/blumen-fuer-gudendorf/
LOCATION:Gedenkstätte Vierthstraße\, 25693 Gudendorf/Dithm.
END:VEVENT
BEGIN:VEVENT
DTSTART;TZID=Europe/Paris:20210508T140000
DTEND;TZID=Europe/Paris:20210508T150000
DTSTAMP:20260424T004217
CREATED:20210507T121935Z
LAST-MODIFIED:20210507T122037Z
UID:1973-1620482400-1620486000@schleswig-holstein.vvn-bda.de
SUMMARY:Gedenken zum Tag der Befreiung am 8. Mai
DESCRIPTION:Der Runde Tisch gegen Rassismus und Faschismus Kiel und der DGB Kiel Region rufen zu einer kleinen Gedenkveranstaltung am ehemaligen Arbeitserziehungslager Nordmark auf.\nBitte achtet bei der Teilnahme auf die aktuellen Schutzbestimmungen gegen Covid 19.
URL:https://schleswig-holstein.vvn-bda.de/event/gedenken-zum-tag-der-befreiung-am-8-mai/
LOCATION:Arbeitserziehungslager Nordmark\, Kiel\, Rendsburger Landstraße 227\, Kiel\, 24113\, Deutschland
END:VEVENT
END:VCALENDAR