BEGIN:VCALENDAR
VERSION:2.0
PRODID:-//Landesvereinigung Schleswig-Holstein - ECPv6.15.20//NONSGML v1.0//EN
CALSCALE:GREGORIAN
METHOD:PUBLISH
X-ORIGINAL-URL:https://schleswig-holstein.vvn-bda.de
X-WR-CALDESC:Veranstaltungen für Landesvereinigung Schleswig-Holstein
REFRESH-INTERVAL;VALUE=DURATION:PT1H
X-Robots-Tag:noindex
X-PUBLISHED-TTL:PT1H
BEGIN:VTIMEZONE
TZID:Europe/Paris
BEGIN:DAYLIGHT
TZOFFSETFROM:+0100
TZOFFSETTO:+0200
TZNAME:CEST
DTSTART:20230326T010000
END:DAYLIGHT
BEGIN:STANDARD
TZOFFSETFROM:+0200
TZOFFSETTO:+0100
TZNAME:CET
DTSTART:20231029T010000
END:STANDARD
BEGIN:DAYLIGHT
TZOFFSETFROM:+0100
TZOFFSETTO:+0200
TZNAME:CEST
DTSTART:20240331T010000
END:DAYLIGHT
BEGIN:STANDARD
TZOFFSETFROM:+0200
TZOFFSETTO:+0100
TZNAME:CET
DTSTART:20241027T010000
END:STANDARD
BEGIN:DAYLIGHT
TZOFFSETFROM:+0100
TZOFFSETTO:+0200
TZNAME:CEST
DTSTART:20250330T010000
END:DAYLIGHT
BEGIN:STANDARD
TZOFFSETFROM:+0200
TZOFFSETTO:+0100
TZNAME:CET
DTSTART:20251026T010000
END:STANDARD
END:VTIMEZONE
BEGIN:VEVENT
DTSTART;TZID=Europe/Paris:20240508T183000
DTEND;TZID=Europe/Paris:20240508T213000
DTSTAMP:20260422T041319
CREATED:20240425T233522Z
LAST-MODIFIED:20240425T233522Z
UID:2429-1715193000-1715203800@schleswig-holstein.vvn-bda.de
SUMMARY:Der 8. Mai - Tag der Befreiung vom Nationalsozialismus - muss Feiertag werden!
DESCRIPTION:Konzert mit der Musikgruppe „Die Grenzgänger“ \n\n\nJazz\, Blues\, Swing & Chanson\n\n\n\n\n\n\n\n\n\n\n\n \nEinlass: 18:30 \nBeginn: 19:00 \n  \nEs sprechen: \nJens Wilke – Kreisvorsitzender der VVN-BdA \nSandra Hollm – Pinneberger Initiative 8. Mai \nModeration: Guido Nowak
URL:https://schleswig-holstein.vvn-bda.de/event/der-8-mai-tag-der-befreiung-vom-nationalsozialismus-muss-feiertag-werden/
LOCATION:Pinneberger Rathaussitzungssaal\, Bismarckstraße 8\, Pinneberg\, Schleswig-Holstein\, 25421
END:VEVENT
END:VCALENDAR