BEGIN:VCALENDAR
VERSION:2.0
PRODID:-//Landesvereinigung Schleswig-Holstein - ECPv6.15.20//NONSGML v1.0//EN
CALSCALE:GREGORIAN
METHOD:PUBLISH
X-ORIGINAL-URL:https://schleswig-holstein.vvn-bda.de
X-WR-CALDESC:Veranstaltungen für Landesvereinigung Schleswig-Holstein
REFRESH-INTERVAL;VALUE=DURATION:PT1H
X-Robots-Tag:noindex
X-PUBLISHED-TTL:PT1H
BEGIN:VTIMEZONE
TZID:Europe/Paris
BEGIN:DAYLIGHT
TZOFFSETFROM:+0100
TZOFFSETTO:+0200
TZNAME:CEST
DTSTART:20230326T010000
END:DAYLIGHT
BEGIN:STANDARD
TZOFFSETFROM:+0200
TZOFFSETTO:+0100
TZNAME:CET
DTSTART:20231029T010000
END:STANDARD
BEGIN:DAYLIGHT
TZOFFSETFROM:+0100
TZOFFSETTO:+0200
TZNAME:CEST
DTSTART:20240331T010000
END:DAYLIGHT
BEGIN:STANDARD
TZOFFSETFROM:+0200
TZOFFSETTO:+0100
TZNAME:CET
DTSTART:20241027T010000
END:STANDARD
BEGIN:DAYLIGHT
TZOFFSETFROM:+0100
TZOFFSETTO:+0200
TZNAME:CEST
DTSTART:20250330T010000
END:DAYLIGHT
BEGIN:STANDARD
TZOFFSETFROM:+0200
TZOFFSETTO:+0100
TZNAME:CET
DTSTART:20251026T010000
END:STANDARD
END:VTIMEZONE
BEGIN:VEVENT
DTSTART;TZID=Europe/Paris:20241002T173000
DTEND;TZID=Europe/Paris:20241002T210000
DTSTAMP:20260421T190532
CREATED:20240916T200355Z
LAST-MODIFIED:20241001T184353Z
UID:2576-1727890200-1727902800@schleswig-holstein.vvn-bda.de
SUMMARY:Lange Nacht der Demokratie
DESCRIPTION:
URL:https://schleswig-holstein.vvn-bda.de/event/lange-nacht-der-demokratie/
LOCATION:Kieler Gewerkschaftshaus\, Legienstraße 22\, Kiel\, 24103
ATTACH;FMTTYPE=image/png:https://schleswig-holstein.vvn-bda.de/wp-content/uploads/sites/15/2024/10/Lange-Nacht-der-Demokratie.png
END:VEVENT
BEGIN:VEVENT
DTSTART;TZID=Europe/Paris:20241002T190000
DTEND;TZID=Europe/Paris:20241002T220000
DTSTAMP:20260421T190532
CREATED:20241001T184223Z
LAST-MODIFIED:20241001T184223Z
UID:2608-1727895600-1727906400@schleswig-holstein.vvn-bda.de
SUMMARY:Filmabend & Diskussion - Einmal und nie wieder!
DESCRIPTION:
URL:https://schleswig-holstein.vvn-bda.de/event/filmabend-diskussion-einmal-und-nie-wieder/
LOCATION:KulturL\, Stadtweg 51\, Schleswig
ATTACH;FMTTYPE=image/jpeg:https://schleswig-holstein.vvn-bda.de/wp-content/uploads/sites/15/2024/10/FilmabendDiskussion-e1727808184951.jpg
END:VEVENT
BEGIN:VEVENT
DTSTART;TZID=Europe/Paris:20241018T170000
DTEND;TZID=Europe/Paris:20241018T200000
DTSTAMP:20260421T190532
CREATED:20241013T185229Z
LAST-MODIFIED:20241013T185229Z
UID:2615-1729270800-1729281600@schleswig-holstein.vvn-bda.de
SUMMARY:Filmvorführung "Einmal und nie wieder!"
DESCRIPTION:
URL:https://schleswig-holstein.vvn-bda.de/event/filmvorfuehrung-einmal-und-nie-wieder/
LOCATION:Kranhaus Elmshorn\, Schloßstraße 8\, Elmshorn\, 25336
ATTACH;FMTTYPE=image/png:https://schleswig-holstein.vvn-bda.de/wp-content/uploads/sites/15/2024/10/Screenshot-2024-10-13-204520.png
END:VEVENT
END:VCALENDAR